BEGIN:VCALENDAR
VERSION:2.0
PRODID:-//Sabre//Sabre VObject 3.5.3//EN
CALSCALE:GREGORIAN
BEGIN:VTIMEZONE
TZID:Europe/London
BEGIN:STANDARD
TZNAME:GMT
DTSTART:19701025T020000
RRULE:FREQ=YEARLY;BYMONTH=10;BYDAY=-1SU
TZOFFSETFROM:+0100
TZOFFSETTO:+0000
END:STANDARD
BEGIN:DAYLIGHT
TZNAME:BST
DTSTART:19700329T010000
RRULE:FREQ=YEARLY;BYMONTH=3;BYDAY=-1SU
TZOFFSETFROM:+0000
TZOFFSETTO:+0100
END:DAYLIGHT
END:VTIMEZONE
BEGIN:VEVENT
UID:event_186026@aldeburghmusic.club
DTSTART;TZID=Europe/London:20250329T190000
DTEND;TZID=Europe/London:20250329T210000
SUMMARY:ETERNAL LIGHT: Haydn 'Nelson Mass'\, Britten 'Abraham and Isaac' an
 d Lauridsen 'Lux Aeterna' at St. Bartholomew's Church\, Orford.
DESCRIPTION:For full event details\, visit: https://www.aldeburghmusic.club
 /eternal-light
LOCATION:St Bartholomews Church\, Church Street\, Orford\, Woodbridge\, IP1
 2 2LW
URL:https://www.aldeburghmusic.club/eternal-light
END:VEVENT
END:VCALENDAR
